BEGIN:VCALENDAR
PRODID:NingEventWidget-v1
VERSION:2.0
METHOD:PUBLISH
BEGIN:VEVENT
UID:5167423:Event:785
DTSTAMP:20260423T015306Z
SUMMARY:24TH ANNUAL EAST COAST CORVETTE SHOW GO  New Jersey
DESCRIPTION:ALL CORVETTE DRAG RACING, AUTOCROSS, SHOW WITH CORVETTE CO
 RRAL AND VENDORS. MEET MISS CORVETTE SHOW & GO. FIRST AND THREE RUNNER
 S IN EACH CLASS WITH SPECIALTY AWARDS.\nRace $30\nShow $30\nAu~cross $
 30\n12.50 Index $50\n($20 goes towards payouts. Rules to follow on\nww
 w.racewaypark.com and www.corvettechallenge.info)\nRace/Show/Autocross
  - Any 2 $40\nRace/Show/Autocross - All 3 $50\n(Admits Car and Driver 
 Only)\n\nSee web site\n\nFor more information visit https://northeastw
 heelsevents.com/events/24th-annual-east-coast
DTSTART:20100731T040000Z
DTEND:20100801T035900Z
CATEGORIES:race, and, car, show
LOCATION:ENGLISTOWN RACEWAY PARK, New Jersey
WEBSITE:http://www.corvetteexpress.com/showngo20102.pdf
URL:http://www.corvetteexpress.com/showngo20102.pdf
CONTACT:AL RAVEN 732-591-9260
ORGANIZER:THE CORVETTE EXPRESS CORVETTE CLUB.
ATTACH;FMTTYPE="image/jpeg":http://storage.ning.com/topology/rest/1.0/
 file/get/2284046903?profile=original
ATTENDEE;ROLE=REQ-PARTICIPANT;PARTSTAT=ACCEPTED;RSVP=TRUE;CN="Richard 
 Scott":https://northeastwheelsevents.com/profile/RichardScott
END:VEVENT
END:VCALENDAR
