BEGIN:VCALENDAR
PRODID:NingEventWidget-v1
VERSION:2.0
METHOD:PUBLISH
BEGIN:VEVENT
UID:5167423:Event:108504
DTSTAMP:20260425T103646Z
SUMMARY:25th Anniversary Dream Machine Auto Jamboree
DESCRIPTION:25th%20Anniversary%20Jamboree%20Flyer%20-%20FINAL%281%29.p
 df\n\nFor more information visit https://northeastwheelsevents.com/eve
 nts/25th-anniversary-dream-machine-auto-jamboree
DTSTART:20160612T120000Z
DTEND:20160612T190000Z
CATEGORIES:car, show, jamboree
LOCATION:Bloomsburg Municipal Airport
WEBSITE:http://www.thedmmc.org
URL:http://www.thedmmc.org
CONTACT:570-784-9665
ORGANIZER;CN="Jack Runge":https://northeastwheelsevents.com/profile/Ja
 ckRunge
ATTACH;FMTTYPE="image/jpeg":
ATTENDEE;ROLE=REQ-PARTICIPANT;PARTSTAT=ACCEPTED;RSVP=TRUE;CN="Jack Run
 ge":https://northeastwheelsevents.com/profile/JackRunge
END:VEVENT
END:VCALENDAR
