BEGIN:VCALENDAR
PRODID:NingEventWidget-v1
VERSION:2.0
METHOD:PUBLISH
BEGIN:VEVENT
UID:5167423:Event:322928
DTSTAMP:20260421T214519Z
SUMMARY:25th Annual Camaro Nationals
DESCRIPTION:Join over 600 Camaros from over 35 states for a fun filled
  All-F-Body Weekend.  Indoor and Outdoor venues, with judged and non-
 judged classes, vendors, and our “Camaro College” of seminars.  O
 ff property events include a rolling cruise, a HD Z/28 Challenge, and 
 time trials at Maple Grove.    Venue boasts 40 acres, with 8 acres u
 nder roof; housing over 1000 consignment classics, muscle cars, & stre
 et rods.\n\nFor more information visit https://northeastwheelsevents.c
 om/events/25th-annual-camaro-nationals
DTSTART:20240719T120000Z
DTEND:20240720T190000Z
CATEGORIES:not-for-profit, all, f-body, event
LOCATION:Classic Auto Mall
WEBSITE:https://camaronationals.org
URL:https://camaronationals.org
CONTACT:60-657-0457
ORGANIZER;CN="Karl Scheffy":https://northeastwheelsevents.com/profile/
 KarlScheffy
ATTACH;FMTTYPE="image/jpeg":https://storage.ning.com/topology/rest/1.0
 /file/get/12383849662?profile=original
ATTENDEE;ROLE=REQ-PARTICIPANT;PARTSTAT=ACCEPTED;RSVP=TRUE;CN="Karl Sch
 effy":https://northeastwheelsevents.com/profile/KarlScheffy
END:VEVENT
END:VCALENDAR
