BEGIN:VCALENDAR
PRODID:NingEventWidget-v1
VERSION:2.0
METHOD:PUBLISH
BEGIN:VEVENT
UID:5167423:Event:349016
DTSTAMP:20260425T071756Z
SUMMARY:25th Annual LCBC Motorsports Show
DESCRIPTION:25th Annual LCBC Motorsports Show\nThe 25th Annual LCBC Mo
 torsports Show will be held on June 13, 2026, from 9am-2pm at LCBC Man
 heim.\nThis free event is for everyone. Come out and enjoy Giant donut
 s, coffee, snow cones, candy, and ice cream on us, plus a variety of g
 reat food from our new lineup of food vendors and trucks.\nBring the w
 hole family. Kids can jump into inflatables, get their faces painted, 
 race RC monster trucks, and try Mobile Mini Golf—while you check out
  hundreds of incredible vehicles, from trucks and street rods to custo
 m sports cars.\nThis year’s featured vehicle is the Pick-Up Truck. A
  special parking area will highlight a selection of pickup trucks, so 
 if you’re bringing one, arrive early to grab a spot. All types and m
 akes are welcome including: stock, restored, antique, modified trucks,
  custom trucks, rat rods, 4-wheel drives, off road trucks, and lifted 
 trucks. And the show isn’t just for trucks. All makes and vehicle ty
 pes are welcome—motorcycles, street rods, muscle cars, exotics, race
  cars, tractors, low riders, customs, choppers, cruisers, and even sca
 le models.\nVehicle registration is free. Pre-register to make your ar
 rival simple—your windshield placard and Grand Prize ticket will be 
 ready when you arrive, so you can grab them and head straight to enjoy
 ing the show. Day-of participants can still register, but forms will n
 eed to be completed on site.\nRegistered entrants are also eligible fo
 r grand prizes and custom-made award trophies.\nRegistration opens at 
 7:30am on Saturday. Arrive early for free donuts and coffee (7:30–8:
 00am) while supplies last. We can’t wait to see you there. Bring you
 r vehicle, bring your family, and come enjoy a great day together.\nWh
 en: Saturday, June 13, 2026 from 9am - 2pm\nWhere: LCBC Manheim 239
 2 Mount Joy Road, Manheim PA 17545\nIn Case of rain: If needed, the r
 ain date is June 20, 2026, from 9am–2pm\nPre-register here;  LCBCch
 urch.com/Motorsports\n\nFor more information visit https://northeastwh
 eelsevents.com/events/25th-annual-lcbc-motorsports-show
DTSTART:20260613T130000Z
DTEND:20260613T180000Z
CATEGORIES:car, show
LOCATION:Manheim PA
WEBSITE:
URL:
CONTACT:
ORGANIZER:
ATTACH;FMTTYPE="image/jpeg":https://storage.ning.com/topology/rest/1.0
 /file/get/31125420079?profile=original
ATTENDEE;ROLE=REQ-PARTICIPANT;PARTSTAT=ACCEPTED;RSVP=TRUE;CN="Richard 
 Vanderberg":https://northeastwheelsevents.com/profile/RichardVanderber
 g
END:VEVENT
END:VCALENDAR
