BEGIN:VCALENDAR
PRODID:NingEventWidget-v1
VERSION:2.0
METHOD:PUBLISH
BEGIN:VEVENT
UID:5167423:Event:144558
DTSTAMP:20260420T185408Z
SUMMARY:26th Cruise Down Memory Lane
DESCRIPTION:one of the Biggest Car show In Cumberland County\n\nFor mo
 re information visit https://northeastwheelsevents.com/events/26th-cru
 ise-down-memory-lane
DTSTART:20170610T210000Z
DTEND:20170611T020000Z
CATEGORIES:car, show
LOCATION:Vineland NJ
WEBSITE:https://www.google.com/maps/place/Landis+Ave,+Vineland,+NJ/@39
 .4802745,-74.9052624,17z/data=!3m1!4b1!4m5!3m4!1s0x89c0cdf4e7e66bff:0x
 7284c8faf75a7950!8m2!3d39.4802745!4d-74.9030737?hl=en
URL:https://www.google.com/maps/place/Landis+Ave,+Vineland,+NJ/@39.480
 2745,-74.9052624,17z/data=!3m1!4b1!4m5!3m4!1s0x89c0cdf4e7e66bff:0x7284
 c8faf75a7950!8m2!3d39.4802745!4d-74.9030737?hl=en
CONTACT:(856)200-1450
ORGANIZER:Cruise Down Memory Lane
ATTACH;FMTTYPE="image/jpeg":http://storage.ning.com/topology/rest/1.0/
 file/get/2284098994?profile=original
ATTENDEE;ROLE=REQ-PARTICIPANT;PARTSTAT=ACCEPTED;RSVP=TRUE;CN="Jerry E 
 Loatman III":https://northeastwheelsevents.com/profile/JerryELoatmanII
 I
END:VEVENT
END:VCALENDAR
