BEGIN:VCALENDAR
PRODID:NingEventWidget-v1
VERSION:2.0
METHOD:PUBLISH
BEGIN:VEVENT
UID:5167423:Event:46086
DTSTAMP:20260423T024047Z
SUMMARY:27th annual June Bug Classic
DESCRIPTION:  MOHNTON, Pa. -- Lovers of all things Volkswagen will c
 onverge on Maple Grove Raceway on Sunday, June 8, for the 27th annual 
 June Bug Classic.\n            The event will include all-V
 olkswagen drag racing, a car show and swap meet.\n          
   Gates will open at 8 a.m. Time trials will begin at 9 a.m. Car show
  judging will take place at noon. Race eliminations will commence at 1
  p.m. with car show trophy presentations at 4 p.m.\n         
    Spectator admission is $15 for adults and $10 for teens ages 13-1
 5 (with paid adult). Kids 12 and under will be admitted free with a pa
 id adult.\n            VW drag racing classes will include:
  I/Gas (1/8-mile, 7.99 sec. and faster); Pro (1/8-mile, 8.0 sec. and s
 lower); Bracket (1/4-mile with dial-ins); Slug Bug (closest to 20 sec.
 ); Test 'n' Tune (unlimited time runs).\n            Race e
 ntry fees are: $35 for I/Gas, Pro and Bracket; $25 for Test 'n' Tune (
 car and driver); $25 for Slug Bug ($10 entry fee plus $15 spectator ti
 cket).\n            Now in its 52nd year of operation, his
 toric Maple Grove Raceway is recognized as a leading facility in the s
 port of NHRA-sanctioned drag racing. The NHRA Nationals, MGR’s annua
 l NHRA Mello Yello Drag Racing Series national event, will take place 
 on Oct. 2-5.\n            For more information, please call
  Maple Grove Raceway at (610) 856-9200 or visit www.maplegroveraceway
 .com. Follow Maple Grove Raceway on Facebook and Twitter (@maplegrove)
 .\n\nFor more information visit https://northeastwheelsevents.com/even
 ts/27th-annual-june-bug-classic
DTSTART:20140608T040000Z
DTEND:20140609T035900Z
CATEGORIES:vw, drag, and, show
LOCATION:Maple Grove Raceway, Mohnton NJ
WEBSITE:http://www.maplegroveraceway.com
URL:http://www.maplegroveraceway.com
CONTACT:(610) 856-9200
ORGANIZER:Maple Grove Raceway
ATTACH;FMTTYPE="image/jpeg":
ATTENDEE;ROLE=REQ-PARTICIPANT;PARTSTAT=ACCEPTED;RSVP=TRUE;CN="Pamela H
 irschhorn":https://northeastwheelsevents.com/profile/PamelaHirschhorn
END:VEVENT
END:VCALENDAR
