BEGIN:VCALENDAR
PRODID:NingEventWidget-v1
VERSION:2.0
METHOD:PUBLISH
BEGIN:VEVENT
UID:5167423:Event:260196
DTSTAMP:20260425T235018Z
SUMMARY:27th Annual Lake Lenape Jamboree Car Show
DESCRIPTION:Come join us for our 27th Annual Lake Lenape Jamboree Car 
 Show.$15 Pre-Registered / $20 Day of ShowRegistration - 9AM - NoonRain
  or ShineDash Plaques for the 1st 100 carsTrophies - Vendors - Chinese
  Auction - Food Music by Hodge PodgeProceeds benefit several local cha
 rities that the club supports.\n\nFor more information visit https://n
 ortheastwheelsevents.com/events/27th-annual-lake-lenape-jamboree-car-s
 how
DTSTART:20200524T130000Z
DTEND:20200524T190000Z
CATEGORIES:car, show
LOCATION:Lake Lenape Park
WEBSITE:https://www.facebook.com/events/764331793976597/
URL:https://www.facebook.com/events/764331793976597/
CONTACT:2673723422
ORGANIZER;CN="Colleen Williams":https://northeastwheelsevents.com/prof
 ile/ColleenWilliams
ATTACH;FMTTYPE="image/jpeg":https://storage.ning.com/topology/rest/1.0
 /file/get/3906003447?profile=original
ATTENDEE;ROLE=REQ-PARTICIPANT;PARTSTAT=ACCEPTED;RSVP=TRUE;CN="Colleen 
 Williams":https://northeastwheelsevents.com/profile/ColleenWilliams
END:VEVENT
END:VCALENDAR
