BEGIN:VCALENDAR
PRODID:NingEventWidget-v1
VERSION:2.0
METHOD:PUBLISH
BEGIN:VEVENT
UID:5167423:Event:116309
DTSTAMP:20260425T103047Z
SUMMARY:28th Annual MDA TALL CEDARS CAR SHOW
DESCRIPTION:LARRY MUMMERT MEMORIAL\n\nNEW LOCATION WILLIAMS GROVE SPEE
 DWAY\nREGISTRATION - 10AM TO 12PM\nSHOW TIME - 12PM TO 1:30 PM\nCERTIF
 ICATES/RAFFLE PRIZES-2PM\nDASH PLAQUES & DOOR PRIZES\nBILL BIRTLE CHAI
 RMAN 717-657-7070\n\n\n\nFor more information visit https://northeastw
 heelsevents.com/events/28th-annual-mda-tall-cedars-car-show
DTSTART:20160821T140000Z
DTEND:20160821T190000Z
CATEGORIES:fundraiser
LOCATION:WILLIAMS GROVE SPEEDWAY
WEBSITE:
URL:
CONTACT:717-657-7070
ORGANIZER;CN="MIKE BLACK":https://northeastwheelsevents.com/profile/MI
 KEBLACK
ATTACH;FMTTYPE="image/jpeg":
ATTENDEE;ROLE=REQ-PARTICIPANT;PARTSTAT=ACCEPTED;RSVP=TRUE;CN="MIKE BLA
 CK":https://northeastwheelsevents.com/profile/MIKEBLACK
END:VEVENT
END:VCALENDAR
