BEGIN:VCALENDAR
PRODID:NingEventWidget-v1
VERSION:2.0
METHOD:PUBLISH
BEGIN:VEVENT
UID:5167423:Event:23071
DTSTAMP:20260424T032233Z
SUMMARY:29th Annual Bill Rapp Pontiac and GMC Super Show
DESCRIPTION:\n\nFor more information visit https://northeastwheelseven
 ts.com/events/29th-annual-bill-rapp-pontiac-and-gmc-super-show
DTSTART:20130609T040000Z
DTEND:20130610T035900Z
CATEGORIES:car, show
LOCATION:Syracuse NY
WEBSITE:http://www.sixnationspoci.org/
URL:http://www.sixnationspoci.org/
CONTACT:
ORGANIZER:Six Nations POCI
ATTACH;FMTTYPE="image/jpeg":http://storage.ning.com/topology/rest/1.0/
 file/get/2284051918?profile=original
ATTENDEE;ROLE=REQ-PARTICIPANT;PARTSTAT=ACCEPTED;RSVP=TRUE;CN="Pamela H
 irschhorn":https://northeastwheelsevents.com/profile/PamelaHirschhorn
END:VEVENT
END:VCALENDAR
