BEGIN:VCALENDAR
PRODID:NingEventWidget-v1
VERSION:2.0
METHOD:PUBLISH
BEGIN:VEVENT
UID:5167423:Event:330439
DTSTAMP:20260423T020339Z
SUMMARY:2nd Annual Bad Ass Motor Bike Show
DESCRIPTION: All motor bikes welcome to our second annaul “Bad Ass 
 Motor Bike Show” Harleys, Minis, Cushmans, Vespas, Lambrettas & othe
 r unique motor bikes on 2, 3 or 4 wheels. Sunday, September, 28 2024, 
 12pm-03pm. For more info. Email info@bentleyssaloon.com\n\nFor more in
 formation visit https://northeastwheelsevents.com/events/2nd-annual-ba
 s-ass-motor-bike-show
DTSTART:20240928T160000Z
DTEND:20240928T190000Z
CATEGORIES:motorcycleshow
LOCATION:Bentley's Saloon
WEBSITE:https://bentleyssaloon.com
URL:https://bentleyssaloon.com
CONTACT:207-985-8966
ORGANIZER:Bentley Warren
ATTACH;FMTTYPE="image/jpeg":https://storage.ning.com/topology/rest/1.0
 /file/get/12741110474?profile=original
ATTENDEE;ROLE=REQ-PARTICIPANT;PARTSTAT=ACCEPTED;RSVP=TRUE;CN="William 
 Bruce":https://northeastwheelsevents.com/profile/WilliamBruce
END:VEVENT
END:VCALENDAR
