BEGIN:VCALENDAR
PRODID:NingEventWidget-v1
VERSION:2.0
METHOD:PUBLISH
BEGIN:VEVENT
UID:5167423:Event:334950
DTSTAMP:20260423T140659Z
SUMMARY:2nd Annual Car Cruise @ The Gilbertsville Farm
DESCRIPTION:Whether you have a car to bring or if you just want to com
 e look... we welcome you to our 2nd annual car show at The Gilbertsvil
 le Farm! We will have a DJ, Food, Door Prizes and FREE Pictures of you
  with your car. All are welcome to come and there is no pre-registrati
 on or fee. This event is held on a farm so please be aware that parkin
 g will be off of our stoned entrance and in our hay field.We will have
  our fall activities available at our farm for those who would like to
  join in the fun! Activities include:KidZone Play Area (tricycle track
 , 2 bounce houses, kids corn maze, slides, rope maze, barn yard animal
 s, sandboxes and more!) $6 per person.HayRides to our Horse Farm next 
 door! Rides are about 30 minutes. HayRide admission also includes KidZ
 one admission. $10 per person.Hi-Tech Corn Maze... takes 1-2 hours to 
 complete! Enjoy our multiple rest areas, down on the farm music playin
 g throughout the field, 6 foot flags to waive if you need help and mor
 e! Admission to the maze also includes KidZone. $12 per person.**Ages 
 2 and under are FREE for all activities.\n\nFor more information visit
  https://northeastwheelsevents.com/events/2nd-annual-car-cruise-the-gi
 lbertsville-farm
DTSTART:20241026T180000Z
DTEND:20241026T210000Z
CATEGORIES:carshow, festival
LOCATION:The Gilbertsville Farm
WEBSITE:https://allevents.in/new%20berlinville/car-cruise-the-gilberts
 ville-farm/200026853598234
URL:https://allevents.in/new%20berlinville/car-cruise-the-gilbertsvill
 e-farm/200026853598234
CONTACT:267-644-7571
ORGANIZER:The Gilbertsville Farm
ATTACH;FMTTYPE="image/jpeg":https://storage.ning.com/topology/rest/1.0
 /file/get/13001777894?profile=original
ATTENDEE;ROLE=REQ-PARTICIPANT;PARTSTAT=ACCEPTED;RSVP=TRUE;CN="William 
 Bruce":https://northeastwheelsevents.com/profile/WilliamBruce
END:VEVENT
END:VCALENDAR
