BEGIN:VCALENDAR
PRODID:NingEventWidget-v1
VERSION:2.0
METHOD:PUBLISH
BEGIN:VEVENT
UID:5167423:Event:825
DTSTAMP:20260423T051537Z
SUMMARY:2nd Annual Donora Fire Company Car and Motorcycle Cruise  Dono
 ra, PA
DESCRIPTION:2nd annual car and motorcycle 26 trophies will be awarded 
 and food fun and kids games all processed benefit the new ladder truck
  fund\n\nFor more information visit https://northeastwheelsevents.com/
 events/2nd-annual-donora-fire-company
DTSTART:20100725T140000Z
DTEND:20100725T200000Z
CATEGORIES:fundraiser
LOCATION:Palmer Park
WEBSITE:
URL:
CONTACT:(724) 413 6810
ORGANIZER:tom
ATTACH;FMTTYPE="image/jpeg":
ATTENDEE;ROLE=REQ-PARTICIPANT;PARTSTAT=ACCEPTED;RSVP=TRUE;CN="Richard 
 Scott":https://northeastwheelsevents.com/profile/RichardScott
END:VEVENT
END:VCALENDAR
