BEGIN:VCALENDAR
PRODID:NingEventWidget-v1
VERSION:2.0
METHOD:PUBLISH
BEGIN:VEVENT
UID:5167423:Event:1066
DTSTAMP:20260423T211834Z
SUMMARY:2nd Annual DRIVE OUT HUNGER Classic Car Show West Chester, Pen
 nsylvania
DESCRIPTION:Dash plaques for the 1st 100 vehicles registered\nâ€¢ 3 Tr
 ophies Awarded plus Presidents Choice.\nâ€¢ Music, food, and more!\nâ€
 ¢ Live On Air Broadcast from QVC.\n\nPossible Guest Appearance by;\nTh
 e Oscar Meyer Weiner Mobile, Herrâ€™s Potato Chip Truck. Kraft Bus Com
 pany Truck.\nRegistration: $5.00 and 3 or more non-perishable food ite
 ms.* All participants will receive complementary tickets for a QVC Stu
 dio Park Tour.\n\n* All vehicles must show proof of insurance at event
  registration\nRain Date: Saturday July 17th 11am-3pm\n\nAll food dona
 tions to benefit the Chester County Food Bank.\nNon perishable, non ex
 pired food items only.\n\nFor more information visit https://northeast
 wheelsevents.com/events/2nd-annual-drive-out-hunger
DTSTART:20100710T150000Z
DTEND:20100710T190000Z
CATEGORIES:fundraiser
LOCATION:QVC Studio Park, West Chester, PA
WEBSITE:http://www.tdcmotorclub.com
URL:http://www.tdcmotorclub.com
CONTACT:484-701-3351   610-283-3137
ORGANIZER:Harry and Joe Oâ€™Fria
ATTACH;FMTTYPE="image/jpeg":http://storage.ning.com/topology/rest/1.0/
 file/get/2284047434?profile=original
ATTENDEE;ROLE=REQ-PARTICIPANT;PARTSTAT=ACCEPTED;RSVP=TRUE;CN="Richard 
 Scott":https://northeastwheelsevents.com/profile/RichardScott
END:VEVENT
END:VCALENDAR
