BEGIN:VCALENDAR
PRODID:NingEventWidget-v1
VERSION:2.0
METHOD:PUBLISH
BEGIN:VEVENT
UID:5167423:Event:96553
DTSTAMP:20260425T105340Z
SUMMARY:2nd Annual Krusin' for Kids Car & Truck Show
DESCRIPTION:To benefit Sunshine Kids (sunshinekids.org) - helping kids
  fight cancer.\n\nFor more information visit https://northeastwheelsev
 ents.com/events/2nd-annual-krusin-for-kids-car-truck-show
DTSTART:20160611T120000Z
DTEND:20160611T190000Z
CATEGORIES:car, "&", truck, show, fundraiser
LOCATION:John Rudy County Park
WEBSITE:http://www.homesale.com/KrusinforKids
URL:http://www.homesale.com/KrusinforKids
CONTACT:7178144283
ORGANIZER;CN="Marty Clayton":https://northeastwheelsevents.com/profile
 /MartyClayton
ATTACH;FMTTYPE="image/jpeg":http://storage.ning.com/topology/rest/1.0/
 file/get/2284076021?profile=original
ATTENDEE;ROLE=REQ-PARTICIPANT;PARTSTAT=ACCEPTED;RSVP=TRUE;CN="Marty Cl
 ayton":https://northeastwheelsevents.com/profile/MartyClayton
END:VEVENT
END:VCALENDAR
