BEGIN:VCALENDAR
PRODID:NingEventWidget-v1
VERSION:2.0
METHOD:PUBLISH
BEGIN:VEVENT
UID:5167423:Event:63923
DTSTAMP:20260422T021640Z
SUMMARY:2nd Annual Michael Aquilina Memorial Car show
DESCRIPTION:Car & craft show to benefit Relay for Life. Rain or shine.
  Registration is $8.00 before show and $10 day of show. Registration i
 s from 9-12 on the day of the event.\n\nFor more information visit htt
 ps://northeastwheelsevents.com/events/2nd-annual-michael-aquilina-memo
 rial-car-show
DTSTART:20150425T130000Z
DTEND:20150425T190000Z
CATEGORIES:car, "&", craft, show
LOCATION:Bethany Wesleyan Church
WEBSITE:https://www.facebook.com/events/583932315037635
URL:https://www.facebook.com/events/583932315037635
CONTACT:610-393-8636
ORGANIZER;CN="Wanda Brown":https://northeastwheelsevents.com/profile/W
 andaBrown
ATTACH;FMTTYPE="image/jpeg":
ATTENDEE;ROLE=REQ-PARTICIPANT;PARTSTAT=ACCEPTED;RSVP=TRUE;CN="Wanda Br
 own":https://northeastwheelsevents.com/profile/WandaBrown
END:VEVENT
END:VCALENDAR
