BEGIN:VCALENDAR
PRODID:NingEventWidget-v1
VERSION:2.0
METHOD:PUBLISH
BEGIN:VEVENT
UID:5167423:Event:334934
DTSTAMP:20260423T122547Z
SUMMARY:2nd Annual Mohawk Trail Fall Cruise!
DESCRIPTION:We are back with our 2nd Annual Mohawk Trail Fall Cruise! 
 Sun. Oct.13 2024 at 07:00 am. \r\nFall is right around the corner and 
 we will be heading back to Mohawk Trail for some great fall foliage an
 d beautiful views! All makes and models welcome!Due to the massive amo
 unt of interest we are limiting the number of vehicles for this cruise
 . Please message us here on Messenger or DM us on Instagram @NightRunn
 ers.NE or @NightRunners.Performance to register for the cruise and con
 firm your spot!Event details will be announced as the date gets closer
 !Important Info:- Walkies are HIGHLY recommended but not required- NO 
 Reckless Driving (please drive within your limits)- Please follow host
 s directions- Please be respectful (people, property and nature)- We a
 re not responsible for any individuals actions- Have fun!Mark your cal
 endars and be ready for the action!\n\nFor more information visit http
 s://northeastwheelsevents.com/events/2nd-annual-mohawk-trail-fall-crui
 se
DTSTART:20241013T110000Z
DTEND:20241013T180000Z
CATEGORIES:cruse-in, rally
LOCATION:Golden Eagle Restaurant
WEBSITE:https://allevents.in/lexington/nightrunners-2nd-annual-mohawk-
 trail-fall-cruise/200027147507347
URL:https://allevents.in/lexington/nightrunners-2nd-annual-mohawk-trai
 l-fall-cruise/200027147507347
CONTACT:413-663-9834
ORGANIZER:New England Night Runners
ATTACH;FMTTYPE="image/jpeg":https://storage.ning.com/topology/rest/1.0
 /file/get/12996439263?profile=original
ATTENDEE;ROLE=REQ-PARTICIPANT;PARTSTAT=ACCEPTED;RSVP=TRUE;CN="William 
 Bruce":https://northeastwheelsevents.com/profile/WilliamBruce
END:VEVENT
END:VCALENDAR
