BEGIN:VCALENDAR
PRODID:NingEventWidget-v1
VERSION:2.0
METHOD:PUBLISH
BEGIN:VEVENT
UID:5167423:Event:334246
DTSTAMP:20260423T065713Z
SUMMARY:2nd Annual Throwback Saturday Classic Cruisin' Car Show
DESCRIPTION:Our 2nd year at LoBiondo Park next to the Rosenhayn Fire R
 escue! Sat. Sep. 28 2024 at 09:00 am to 02:00 pm. Rain date: Sun. Sep.
  29. \r\n A huge collection of the very best in Muscle Cars, Imports,
  American, Corvettes and so much more!!! Awesome trophies, music by Cr
 uisin' 92.1, https://www.wvlt.com/\r\ngreat food and super fun giveawa
 ys! Bring a chair and hang with us for a great time!\n\nFor more infor
 mation visit https://northeastwheelsevents.com/events/2nd-annual-throw
 back-saturday-classic-cruisin-car-show
DTSTART:20240928T130000Z
DTEND:20240928T180000Z
CATEGORIES:carshow
LOCATION:LoBiondo Park
WEBSITE:https://www.facebook.com/events/678-morton-ave-rosenhayn-nj-08
 302-4916-united-states/classic-cruisin-car-show/1012817596978881/
URL:https://www.facebook.com/events/678-morton-ave-rosenhayn-nj-08302-
 4916-united-states/classic-cruisin-car-show/1012817596978881/
CONTACT:856-455-3200
ORGANIZER:Deerfield Township
ATTACH;FMTTYPE="image/jpeg":https://storage.ning.com/topology/rest/1.0
 /file/get/12946060853?profile=original
ATTENDEE;ROLE=REQ-PARTICIPANT;PARTSTAT=ACCEPTED;RSVP=TRUE;CN="William 
 Bruce":https://northeastwheelsevents.com/profile/WilliamBruce
END:VEVENT
END:VCALENDAR
