BEGIN:VCALENDAR
PRODID:NingEventWidget-v1
VERSION:2.0
METHOD:PUBLISH
BEGIN:VEVENT
UID:5167423:Event:334755
DTSTAMP:20260423T035425Z
SUMMARY:2nd Annual Wicked Big Car Show, Food Truck Festival & Business
  Expo
DESCRIPTION:Save the Date!! October 13th from 10 AM - 3 PM at 11 Gore 
 Rd Webster MA we are hosting our second Wicked Big Car Show with a foo
 d truck festival and business expo for all our local vendors! Come dow
 n for amazing music presented by DJ Cruisin’ Bruce, make sure you co
 me hungry for our great selection of food and many cars and vendors to
  keep you busy all day! All Show Cars, trucks and bikes invited! $15 e
 ntry fee! Giveaways and 50/50 raffles! We are beyond excited to see yo
 u all there!\n\nFor more information visit https://northeastwheelseven
 ts.com/events/2nd-annual-wicked-big-car-show-food-truck-festival-busin
 ess-expo
DTSTART:20241013T140000Z
DTEND:20241013T190000Z
CATEGORIES:carshow, festival
LOCATION:MAPFRE USA Corporation
WEBSITE:https://cplace36.wixsite.com/mobile1
URL:https://cplace36.wixsite.com/mobile1
CONTACT:(508) 943-9000
ORGANIZER:MAPFRE USA Corporation
ATTACH;FMTTYPE="image/jpeg":https://storage.ning.com/topology/rest/1.0
 /file/get/12986026659?profile=original
ATTENDEE;ROLE=REQ-PARTICIPANT;PARTSTAT=ACCEPTED;RSVP=TRUE;CN="William 
 Bruce":https://northeastwheelsevents.com/profile/WilliamBruce
END:VEVENT
END:VCALENDAR
