BEGIN:VCALENDAR
PRODID:NingEventWidget-v1
VERSION:2.0
METHOD:PUBLISH
BEGIN:VEVENT
UID:5167423:Event:142535
DTSTAMP:20260424T091005Z
SUMMARY:2nd Chance Spring Auction, Flea Market & Car Corral at the AAC
 A Museum
DESCRIPTION:As we begin the 2017 spring season we’re excited to star
 t a 2nd Chance Auction, Flea Market & Car Corral – New for this Year
 !Join us for an auction and flea market area dedicated to automotive r
 elated tools, parts & automotive collectible items. A car corral will 
 be available onsite – spring is the perfect time to transition owner
 ship of those classic vehicles!Many folks remember and ask about the A
 ACA PA Dutch Region Auction that used to be held here. This is a new e
 vent that will be similar in set-up to this long time favorite.Flea Ma
 rket & Car Corral open to the public beginning @ 8:00 AM. Auction begi
 ns @ 11:00 AM.Breakfast, lunch and snack items will be available for p
 urchase. Flea Market Vendors:We’re looking for folks interested in s
 elling vehicle parts, tools and collectible items. Vendor Booth fee is
  $10.00 for a space. All vendors will be responsible for their own spa
 ce set up needs – i.e. back of a vehicle | tent, tables, chairs, etc
 . Flea Market vendor booth set up is from 6:30- 8:00 AM. If you requir
 e more time for set up or have specific questions, please contact Nico
 le at 717-566-7100 ext. 107 or email NPressel@AACAMuseum.org.\nCar Cor
 ral:Have a vehicle you would like to sell? Here’s your chance! Car C
 orral spaces are just $10.00 to display your vehicle. Vehicle owners s
 hould arrive between 7:00 AM – 8:00 AM if possible so that they are 
 in place for visitor’s to arrive at 8:00 AM.\nAuction:The auction wi
 ll begin @ 11 AM and have individual items and lots available for sale
  until inventory has been depleted. Auction will consist of automotive
  related items including tools, vehicle parts and automotive collectib
 le items. We are happy to accept donated items for re-sale. Items may 
 be dropped off on Friday April 7th from 9AM – 4 PM or Saturday, Apri
 l 8th from 6:30 – 9:00 AM. As a 501 (c) 3 organization, the AACA Mus
 eum appreciates all donations and donation receipts will be available 
 upon request.No tires, upholstered seats or automotive glass will be a
 ccepted for donation.\n\nFor more information visit https://northeastw
 heelsevents.com/events/2nd-chance-spring-auction-flea-market-car-corra
 l-at-the-aaca
DTSTART:20170408T120000Z
DTEND:20170408T170000Z
CATEGORIES:auction, car, corral, flea, market
LOCATION:AACA Museum
WEBSITE:http://www.aacamuseum.org/2nd-chance-spring-auction-flea-marke
 t-car-corral-aaca-museum/
URL:http://www.aacamuseum.org/2nd-chance-spring-auction-flea-market-ca
 r-corral-aaca-museum/
CONTACT:7175667100
ORGANIZER;CN="AACA Museum":https://northeastwheelsevents.com/profile/A
 ACAMuseum941
ATTACH;FMTTYPE="image/jpeg":http://storage.ning.com/topology/rest/1.0/
 file/get/2284097007?profile=original
ATTENDEE;ROLE=REQ-PARTICIPANT;PARTSTAT=ACCEPTED;RSVP=TRUE;CN="AACA Mus
 eum":https://northeastwheelsevents.com/profile/AACAMuseum941
END:VEVENT
END:VCALENDAR
