BEGIN:VCALENDAR
PRODID:NingEventWidget-v1
VERSION:2.0
METHOD:PUBLISH
BEGIN:VEVENT
UID:5167423:Event:336215
DTSTAMP:20260420T005235Z
SUMMARY:30th Anniversary All Mopar Swap Meet, Car Corral and Cruise-in
 .
DESCRIPTION:Directions: 717 E. 17th Ave., 43211. Take I-71 just north
  of downtown Columbus to 17th Avenue (exit #111). Take 17th Avenue wes
 t into the fairgrounds.\r\nShow Hours: Saturday 9:00am-3:00pm.\r\nVen
 dor Check-in/Set up: Friday: Noon-5:00pm, Saturday: 7:00am-9:00am. No
  Saturday drive-in unloading permitted after 8:00am. Building must be 
 vacated by 6:00pm Saturday.\r\nSecurity: The Ohio State Patrol are on
  site 24 hours a day and will be monitoring the facility\r\nSpectator 
 Admission: Early bird $15.00 (8:00am-9:00am); $10.00 (9:00am-1:00pm).
  FREE ADMISSION FOR ALL AFTER 1:00pm. Special Needs and Children under
  12 always free.\r\nParking: Fair grounds parking is $5.00 per each e
 ntry. Friday arrivals must inform the parking gate that you are delive
 ring to the Rhodes Building and you will not be charged. Free overnigh
 t trailer parking available.\r\nParticipant Admission:\r\n\r\n\r\n\r\n
 \r\n\r\n\r\n\r\nIndoor Swap Meet: $50.00 10'x20'.\r\n\r\n\r\n\r\n\r\n\
 r\n\r\n\r\nOutdoor Swap Meet: $50.00 20'x20'.\r\n\r\n\r\n\r\n\r\n\r\n\
 r\n\r\nIndoor Car Corral: $50.00 10'x20'.\r\n\r\n\r\n\r\n\r\n\r\nOutdo
 or Car Corral: $20.00.\r\n\r\n\r\n\r\n\r\n\r\nOutdoor Cruise-in: FREE 
 with paid spectator admission.\r\n\r\n\r\n\r\n\r\n\r\nCar Corral and S
 wap Meet entry includes one (1) adult admission per space.\r\n\r\n\r\n
 \r\n\r\n\r\nMidway: Premium main aisle spots for non-automotive commer
 cial vendors. Must be reserved in advance. 10'x10' $100.00.\r\n\r\n\r\
 n\r\n\r\n\r\nCommercial entry includes two (2) adult admissions per sp
 ace.\r\n\r\n\r\n\r\n\r\n\r\n8' Table Rental: $15.00 each in advance.\r
 \n\r\n\r\n\r\n\r\n\r\nAdditional Helper: $15.00 each. Required for ANY
 ONE in attendance during Friday check-in or Saturday before 9:00am.\r\
 n\r\n\r\n\r\n\r\n\r\nSorry, no refunds - exchange only.\r\n\r\n\r\n\r\
 n\r\n\r\n\r\n\r\n\r\n Follow us on facebook!\r\n\r\n\r\n\r\n\n\nFor m
 ore information visit https://northeastwheelsevents.com/events/30th-an
 niversary-all-mopar-swap-meet-car-corral-and-cruise-in
DTSTART:20250222T140000Z
DTEND:20250223T000000Z
CATEGORIES:cruise-in, swap-meet, car-corral
LOCATION:Ohio Expo Center, Rhodes Building
WEBSITE:https://jeffjohnsonmotorsports.com/ome.php
URL:https://jeffjohnsonmotorsports.com/ome.php
CONTACT:614-268-1181
ORGANIZER:Jeff Johnson Motorsports
ATTACH;FMTTYPE="image/jpeg":https://storage.ning.com/topology/rest/1.0
 /file/get/13144722065?profile=original
ATTENDEE;ROLE=REQ-PARTICIPANT;PARTSTAT=ACCEPTED;RSVP=TRUE;CN="William 
 Bruce":https://northeastwheelsevents.com/profile/WilliamBruce
END:VEVENT
END:VCALENDAR
