BEGIN:VCALENDAR
PRODID:NingEventWidget-v1
VERSION:2.0
METHOD:PUBLISH
BEGIN:VEVENT
UID:5167423:Event:1006
DTSTAMP:20260423T225641Z
SUMMARY:31st Annual In-Vette-Tational    Reading, Pa.  Rain or Shine
DESCRIPTION:Reg 9:00am. to Noon. Voting for awarda 10:00am to 1:30pm\n
 (*SDC memberswill not vote)\nTrophy and awards 2:30pm\n1st, 2nd, 3rd, 
 place in C1,C2,C3.C4,C5,C6\nBest Club Participation\nBest in Show\nLon
 gest Didtance\nTHREE CASH AWARDS from registered entries\nCorvette Sem
 inar:\nAfter Market Stock, Nitro for your tires. Winterizing your vett
 e, Detailing, Pinstripping, Corvette Exhaust\nManufactur's Reps.\nSnap
  On, Goodyear, Mobile One, GM,and Firestone\n\n\n\n\nClick Here for a 
 printable .PDF\n\nFor more information visit https://northeastwheelsev
 ents.com/events/31st-annual-invettetational
DTSTART:20100710T130000Z
DTEND:20100710T183000Z
CATEGORIES:car, show
LOCATION:Bob Fishers Chevrolet
WEBSITE:http://www.skylineDriveCorvettes.org
URL:http://www.skylineDriveCorvettes.org
CONTACT:www.BobFisherChev.com   (610) 921-0261
ORGANIZER:Skyline Drive Corvettes and Fisher's Chevrolet
ATTACH;FMTTYPE="image/jpeg":http://storage.ning.com/topology/rest/1.0/
 file/get/2284046194?profile=original
ATTENDEE;ROLE=REQ-PARTICIPANT;PARTSTAT=ACCEPTED;RSVP=TRUE;CN="Richard 
 Scott":https://northeastwheelsevents.com/profile/RichardScott
END:VEVENT
END:VCALENDAR
