BEGIN:VCALENDAR
PRODID:NingEventWidget-v1
VERSION:2.0
METHOD:PUBLISH
BEGIN:VEVENT
UID:5167423:Event:145205
DTSTAMP:20260420T165158Z
SUMMARY:32nd Annual Antique Engine, Tractor & Toy show
DESCRIPTION:Collectors of antique equipment are invited to show and wi
 ll be running their equipment. Pedal tractor pulls Saturday and Sunday
  for the young children and garden tractor pulls Sunday afternoon.Â  T
 ractor parades, flea markets, and plenty of food all weekend. Rehrig B
 rothers live entertainment Saturday and Majestics Sunday afternoon.Â Â
   Admission and parking free all weekend.\n\nFor more information visi
 t https://northeastwheelsevents.com/events/32nd-annual-antique-engine-
 tractor-toy-show
DTSTART:20170610T040000Z
DTEND:20170612T035900Z
CATEGORIES:showing, of, antique, farm, equipment
LOCATION:Wm Delong Memorial Park
WEBSITE:
URL:
CONTACT:610-926-6209
ORGANIZER;CN="Richard Miller":https://northeastwheelsevents.com/profil
 e/RichardMiller
ATTACH;FMTTYPE="image/jpeg":
ATTENDEE;ROLE=REQ-PARTICIPANT;PARTSTAT=ACCEPTED;RSVP=TRUE;CN="Richard 
 Miller":https://northeastwheelsevents.com/profile/RichardMiller
END:VEVENT
END:VCALENDAR
