BEGIN:VCALENDAR
PRODID:NingEventWidget-v1
VERSION:2.0
METHOD:PUBLISH
BEGIN:VEVENT
UID:5167423:Event:18222
DTSTAMP:20260421T093258Z
SUMMARY:32nd Annual Motorama & Tunerwar -Harrisburg, PA
DESCRIPTION:At the Harrisburg Farm Show Complex 10:00 am - 10:00 pm Sa
 turday and 9:00 am - 5:00 pm Sunday. Rod - Custom - Tunerwar - Live Ra
 cing - Sprints - ArenaCross - go carts - RC Off Road, lawnmowers, batt
 le robots Show Cars Registration for 2013's event opens November 1st 2
 012 at midnight. e-mail: info@motorama1.com orhttp://www.motoramaeve
 nts.com/tunerwars/ or www.trail-wayspeedway.com\n\nFor more informat
 ion visit https://northeastwheelsevents.com/events/32nd-annual-motoram
 a-tunerwar-harrisburg-pa
DTSTART:20130216T050000Z
DTEND:20130218T045900Z
CATEGORIES:car-show, racing
LOCATION:Harrisburg Farm Show Complex
WEBSITE:http://www.motoramaevents.com/tunerwar
URL:http://www.motoramaevents.com/tunerwar
CONTACT:717-865-2085, 717-359-7056
ORGANIZER:Daniel Swisher -Motorama
ATTACH;FMTTYPE="image/jpeg":
ATTENDEE;ROLE=REQ-PARTICIPANT;PARTSTAT=ACCEPTED;RSVP=TRUE;CN="Michael 
 Thies":https://northeastwheelsevents.com/profile/MichaelThies
END:VEVENT
END:VCALENDAR
