BEGIN:VCALENDAR
PRODID:NingEventWidget-v1
VERSION:2.0
METHOD:PUBLISH
BEGIN:VEVENT
UID:5167423:Event:238459
DTSTAMP:20260422T235101Z
SUMMARY:33rd Annual Father's Day Rod Run
DESCRIPTION:Sunday, June 16 8 AM - 3 PM Rain or Shine 32nd Annual Pret
 zel City Car Show & Father's Day Rod Run Oley Fairgrounds, 477 Main St
 reet, Oley, PA (enter on Jefferson Street) Hosted By Pretzel City Rod 
 & Custom Car Club All Show Cars & Trucks Welcome Dash Plaques To 1st 2
 00 Registered Vehicles NSRA Safety Inspection On Grounds Chinese Aucti
 on, Raffles, Door Prizes, Flea Market, Bingo, 50/50, DJ No Pets Or Alc
 oholic Beverages Pre-Reg:(by June 9) $12.00; D.O.S(8AM-Noon) $15.00  C
 ash Drawing For All Pre-Registered Vehicles Info: Rick Baum 610-678-39
 48 or Fran Antosy 610-944-5515\n  \nMail check & reg. form to:\n  
  Pretzel City Rod & Custom \n   PO Box 687\n   Fleetwood, PA 1952
 2-0687\n\nFor more information visit https://northeastwheelsevents.com
 /events/33rd-annual-father-s-day-rod-run
DTSTART:20190616T120000Z
DTEND:20190616T190000Z
CATEGORIES:car, show
LOCATION:Oley Valley Community Fair
WEBSITE:https://www.facebook.com/events/2267150683562689/
URL:https://www.facebook.com/events/2267150683562689/
CONTACT:Rick 610-678-3949 -or- Fran 610-944-5515
ORGANIZER;CN="Richard Baum":https://northeastwheelsevents.com/profile/
 RichardBaum
ATTACH;FMTTYPE="image/jpeg":https://storage.ning.com/topology/rest/1.0
 /file/get/1181810082?profile=original
ATTENDEE;ROLE=REQ-PARTICIPANT;PARTSTAT=ACCEPTED;RSVP=TRUE;CN="Richard 
 Baum":https://northeastwheelsevents.com/profile/RichardBaum
END:VEVENT
END:VCALENDAR
