BEGIN:VCALENDAR
PRODID:NingEventWidget-v1
VERSION:2.0
METHOD:PUBLISH
BEGIN:VEVENT
UID:5167423:Event:143277
DTSTAMP:20260423T033305Z
SUMMARY:33rd Annual MCCNE, All Wheels, Summer Round-Up
DESCRIPTION:Rain Date: 7/23/17.\nAll, Makes, Models & Vintages of both
  FOREIGN & DOMESTIC Automobiles are WELCOME!\nALL SHOW CARS will be CL
 UB JUDGED, ex. 2016s plus: pop. vote, on Cleanliness, Workmanship, Con
 dition, Fit and Finish.\nNOTE: Fire Extinguishers are required in all 
 show vehicles!\nShow Hours: Car Registrations: 9:00AM to 12:00PM, Entr
 y fee: $20.00 -- MCCNE Members: $15.00. Trophies Awarded about 3:30PM.
  Spectators are welcome, Admission & Parking are FREE! (Sorry NO Vendo
 r Spaces.)\n\nFor more information visit https://northeastwheelsevents
 .com/events/33rd-annual-mccne-all-wheels-summer-round-up
DTSTART:20170716T130000Z
DTEND:20170716T190000Z
CATEGORIES:fundraiser, for, charity
LOCATION:Solomon Pond Mall, located, just North of I-290 at Exit-25B.
WEBSITE:http://www.mccne.com
URL:http://www.mccne.com
CONTACT:MCCNE Info. Line: 508-674-5462
ORGANIZER:Mustang Car Club of New England
ATTACH;FMTTYPE="image/jpeg":http://storage.ning.com/topology/rest/1.0/
 file/get/2284095264?profile=original
ATTENDEE;ROLE=REQ-PARTICIPANT;PARTSTAT=ACCEPTED;RSVP=TRUE;CN="Vincent 
 Letourneau":https://northeastwheelsevents.com/profile/VincentLetournea
 u
END:VEVENT
END:VCALENDAR
