BEGIN:VCALENDAR
PRODID:NingEventWidget-v1
VERSION:2.0
METHOD:PUBLISH
BEGIN:VEVENT
UID:5167423:Event:5107
DTSTAMP:20260424T231700Z
SUMMARY:\"35 ANNUAL ALL CORVETTE SHOW\" (KEYSTONE STATE CORVETTE CLUB)
DESCRIPTION:48 Trophies 3 awards in each class,Plus spc.awards for;Lan
 ce's pick,Best of show by participants,enine,paint,interior and Best c
 lub participation.\n$20.00 day of show $25.00 at gate. Dj provided,50/
 50,food and\nbeverages,fun & surprises.ALSO Note raffle tickets on sal
 e for 2012 Corvette\nRain date June 12.2011\nCheck web for more info.\
 n\nFor more information visit https://northeastwheelsevents.com/events
 /35-annual-all-corvette-show
DTSTART:20110612T120000Z
DTEND:20110612T200000Z
CATEGORIES:corvette, only, show, 1953, to, present
LOCATION:Tom Oates Automotive Center
WEBSITE:http://www.keystonecorvetteclub.net
URL:http://www.keystonecorvetteclub.net
CONTACT:Randy 610-888-0019 or Bob 610-587-3367
ORGANIZER:KEYSTONE STATE CORVETTE CLUB
ATTACH;FMTTYPE="image/jpeg":http://storage.ning.com/topology/rest/1.0/
 file/get/2284046626?profile=original
ATTENDEE;ROLE=REQ-PARTICIPANT;PARTSTAT=ACCEPTED;RSVP=TRUE;CN="wayne sc
 ott":https://northeastwheelsevents.com/profile/waynescott
END:VEVENT
END:VCALENDAR
