BEGIN:VCALENDAR
PRODID:NingEventWidget-v1
VERSION:2.0
METHOD:PUBLISH
BEGIN:VEVENT
UID:5167423:Event:136862
DTSTAMP:20260424T120437Z
SUMMARY:35th Annual Greater York Toy Extravaganza
DESCRIPTION:Buy-Sell-Trade  Early buyers welcome Saturday evening and
  Sunday morning. Extra cost.  CALL FOR INFORMATION\n\nFor more inform
 ation visit https://northeastwheelsevents.com/events/35th-annual-great
 er-york-toy-extravaganza
DTSTART:20161127T140000Z
DTEND:20161127T200000Z
CATEGORIES:toy, show
LOCATION:Memorial Hall, York Expo Center, York PA
WEBSITE:
URL:
CONTACT:Barry 717 424-4004, Mike 717 668-8086
ORGANIZER:Barry and Mike
ATTACH;FMTTYPE="image/jpeg":
ATTENDEE;ROLE=REQ-PARTICIPANT;PARTSTAT=ACCEPTED;RSVP=TRUE;CN="Pamela H
 irschhorn":https://northeastwheelsevents.com/profile/PamelaHirschhorn
END:VEVENT
END:VCALENDAR
