BEGIN:VCALENDAR
PRODID:NingEventWidget-v1
VERSION:2.0
METHOD:PUBLISH
BEGIN:VEVENT
UID:5167423:Event:43911
DTSTAMP:20260423T050945Z
SUMMARY:35th Annual In-Vette-Tational & 50th Anniversary Party
DESCRIPTION:2014 is SDC's 50th Anniversary and 35th Annual In-Vette-Ta
 tional. June 7th @ Oley Valley Fairgrounds. All cars, trucks and motor
 cycles (no colors please) are welcome. We invite all clubs to join in 
 our celebration of 50 years. We have a very active day planned ending 
 the evening with Flamin' Dick and the Hot Rods. There are over 70 awar
 ds in 17 different classes! See our website for detailed info. Like us
  on Facebook\n \nPoker Run 10am\nCar Show 2pm\nFlamin' Dick and the H
 ot Rods 4:30pm\nRain or Shine\nAll makes and models are welcome includ
 ing motorcycles (no colors please)\nThere will be activities all day l
 ong. Oley Valley Fire Company provides food all day\n\nFlyer & App\n\n
 \nFor more information visit https://northeastwheelsevents.com/events/
 35th-annual-in-vette-tational-50th-anniversary-party
DTSTART:20140607T040000Z
DTEND:20140608T035900Z
CATEGORIES:anniversary, party, "/", scholarship, fundraiser
LOCATION:Oley Valley Fairgrounds
WEBSITE:http://www.SkylineDriveCorvettes.org
URL:http://www.SkylineDriveCorvettes.org
CONTACT:
ORGANIZER;CN="Ted Stalnecker":https://northeastwheelsevents.com/profil
 e/TedStalnecker
ATTACH;FMTTYPE="image/jpeg":http://storage.ning.com/topology/rest/1.0/
 file/get/2284061316?profile=original
ATTENDEE;ROLE=REQ-PARTICIPANT;PARTSTAT=ACCEPTED;RSVP=TRUE;CN="Ted Stal
 necker":https://northeastwheelsevents.com/profile/TedStalnecker
END:VEVENT
END:VCALENDAR
