BEGIN:VCALENDAR
PRODID:NingEventWidget-v1
VERSION:2.0
METHOD:PUBLISH
BEGIN:VEVENT
UID:5167423:Event:330584
DTSTAMP:20260423T152506Z
SUMMARY:50th Annual Ty-Rods Fall Auto Swap Meet
DESCRIPTION:\r\n The 50th Annual Ty-Rods Fall Automobile Swap Meet in
  2024 returns to Stafford Motor Speedway in Stafford Springs, Connecti
 cut. Sunday, October, 13 2024. Gates open 7:00am. Rain or Shine. Autop
 arts Sales, Car Corral, Vendors, Food, Beer and Music.\r\n\r\nEvent Pr
 icing:\r\nAdmission $15\r\nVendor Space $45 before Sept. 13 / $55 afte
 r Sept. 13\r\nVendor Space day of event $55, be setup by 6:30am. \r\n
 Car Corral $35 per vehicle.\r\nVendors enter day of show. More informa
 tion call 860-649-3697. For ticket information, whether buying or upgr
 ading tickets, asking general or event related questions, or sharing f
 eedbacks or concerns, we are here to help, call 860-649-3697 , or writ
 e us at P.O. Box 105, Stafford Springs, Connecticut 06076. Also check 
 our facebook page. \r\nFor Stafford Speedways other events informatio
 n and 2024 Modified Season schedule, check https://staffordmotorspeedw
 ay.com\r\n\n\nFor more information visit https://northeastwheelsevents
 .com/events/36th-annual-ty-rods-spring-auto-swap-meet-1
DTSTART:20241013T110000Z
DTEND:20241013T200000Z
CATEGORIES:automobiles, show, parts, sales
LOCATION:Stafford Motor Speedway
WEBSITE:https://staffordmotorspeedway.com/events/50th-annual-ty-rods-f
 all-auto-swap-meet/
URL:https://staffordmotorspeedway.com/events/50th-annual-ty-rods-fall-
 auto-swap-meet/
CONTACT:860-649-3697
ORGANIZER:Stafford Motor Speedway
ATTACH;FMTTYPE="image/jpeg":https://storage.ning.com/topology/rest/1.0
 /file/get/12744301883?profile=original
ATTENDEE;ROLE=REQ-PARTICIPANT;PARTSTAT=ACCEPTED;RSVP=TRUE;CN="William 
 Bruce":https://northeastwheelsevents.com/profile/WilliamBruce
END:VEVENT
END:VCALENDAR
