BEGIN:VCALENDAR
PRODID:NingEventWidget-v1
VERSION:2.0
METHOD:PUBLISH
BEGIN:VEVENT
UID:5167423:Event:45997
DTSTAMP:20260423T010214Z
SUMMARY:37th Annual COMVEC Show & Flea Market
DESCRIPTION:\nAntique Military Vehicles\nFlea Market\nMilitary Display
 s\nFood On-Site\n\n\n\nAdults:$5.00\nKids under 10: Free\n\n\nFor more
  information visit https://northeastwheelsevents.com/events/37th-annua
 l-comvec-show-flea-market
DTSTART:20140607T120000Z
DTEND:20140607T200000Z
CATEGORIES:annual, show
LOCATION:Four Town Fairgrounds
WEBSITE:http://www.comvec.org
URL:http://www.comvec.org
CONTACT:
ORGANIZER:COMVEC
ATTACH;FMTTYPE="image/jpeg":http://storage.ning.com/topology/rest/1.0/
 file/get/2284060880?profile=original
ATTENDEE;ROLE=REQ-PARTICIPANT;PARTSTAT=ACCEPTED;RSVP=TRUE;CN="Ralph Ce
 lone":https://northeastwheelsevents.com/profile/RalphCelone
END:VEVENT
END:VCALENDAR
