BEGIN:VCALENDAR
PRODID:NingEventWidget-v1
VERSION:2.0
METHOD:PUBLISH
BEGIN:VEVENT
UID:5167423:Event:343985
DTSTAMP:20260423T201548Z
SUMMARY:37th Annual Lehigh Township Benefit Festival & Car Show
DESCRIPTION:PLEASE BEWARE of SCAMMERS saying to register with them! Do
 n’t fall for their posts. They are fake!Please do not believe anyone
  that says to pay them for the car show through online payments. We ha
 ve applications that we will have on our events page in a few months.T
 he application will be mailed to Becky’s Drive-In with payment.Our 3
 7th Annual Lehigh Township Benefit Festival & Car Show will be held on
  Sunday, October 5th, with the rain date on Sunday, October 12th, to b
 enefit Dream Come True of the Blue Ridge Chapter.The proceeds help ser
 iously, chronically, and terminally ill children who have their dreams
  fulfilled by either going to Disney World or seeing their favorite st
 ar/actor, to name a few.Since 1986, our benefit has raised over $460,3
 98.00 for Dream Come True of the Blue Ridge Chapter.The Lehigh Townshi
 p Lions Club will be hosting the car show.Dash Plaques will be given t
 o the first 200 cars registered. The car show will be from 8:30 am to 
 3 pm. Awards at 3 pm on Screen 2, where the car show is located.There 
 will be 10 trophies handed out. Car Show Pre-Registration is $15.00. D
 ay of Show is $20.00. Registration time on the day of the show is 8:30
  am to 12:30 pm.On the day of the event, there will be a flea market, 
 crafts, delicious food, entertainment, games for children, basket soci
 al, hayrides, lots of cool classics/antique cars, Emerald Dragon Karat
 e demo, Face Painting by Miss Directions. to name a few.We will have t
 he band \"TimeWhys\" performing on the stage in front of Screen 1 from
  12 noon to 3 pm.DJ Tony & his Side Kick playing oldies for our car sh
 ow on Screen 2 from 11 am into 3:30 pm.Duncan the Dog will be roaming 
 the grounds in the afternoon.Balloons by Robin will be making sculptur
 ed balloons for the children from 11:30 am to 1:30 pmThe cost for vend
 or spaces for the flea market and Craft Show will be $25.00, which inc
 ludes a 20'x20' space. Venders must supply their own tables.Set-up tim
 e will be NO earlier than 7 am!!Donation at the gate when arriving to 
 attend the benefit.\n\nFor more information visit https://northeastwhe
 elsevents.com/events/37th-annual-lehigh-township-benefit-festival-car-
 show
DTSTART:20251005T123000Z
DTEND:20251005T193000Z
CATEGORIES:carshow, benefit
LOCATION:Becky's Drive-in
WEBSITE:https://allevents.in/walnutport/37th-annual-lehigh-township-be
 nefit-festival-and-car-show/200027982270922
URL:https://allevents.in/walnutport/37th-annual-lehigh-township-benefi
 t-festival-and-car-show/200027982270922
CONTACT:610-767-2249
ORGANIZER:Becky's Drive-In
ATTACH;FMTTYPE="image/jpeg":https://storage.ning.com/topology/rest/1.0
 /file/get/13715032873?profile=original
ATTENDEE;ROLE=REQ-PARTICIPANT;PARTSTAT=ACCEPTED;RSVP=TRUE;CN="William 
 Bruce":https://northeastwheelsevents.com/profile/WilliamBruce
END:VEVENT
END:VCALENDAR
