BEGIN:VCALENDAR
PRODID:NingEventWidget-v1
VERSION:2.0
METHOD:PUBLISH
BEGIN:VEVENT
UID:5167423:Event:143559
DTSTAMP:20260423T090225Z
SUMMARY:39th Annual MCCNE, All Wheels, Car Show & Swap Meet
DESCRIPTION:Rain Date: 8/20/17.\nAll Makes, Models & Vintages of both 
 FOREIGN & DOMESTIC Automobiles are WELCOME.\nALL SHOW CARS will be CLU
 B JUDGED, ex. 2016s plus: pop. vote, on Cleanliness, Workmanship, Cond
 ition, Fit and Finish.\nNOTE: Fire Extinguishers are required in all s
 how vehicles!\nShow Hours: Car Registrations: 9:00AM to 12:00PM, Entry
  fee: $20.00, MCCNE Members: $15.00. Trophies Awarded about 3:30PM.\nA
 LL VENDORS (except food) are Welcome! Vendor fee is a voluntary donati
 on to our designated charity! Setup: 8:00AM.\nSpectators are welcome, 
 Admission is FREE!\n\nFor more information visit https://northeastwhee
 lsevents.com/events/39th-annual-mccne-all-wheels-car-show-swap-meet
DTSTART:20170813T130000Z
DTEND:20170813T190000Z
CATEGORIES:fundraiser, for, charity
LOCATION:Oxford Motorcars
WEBSITE:http://www.mccne.com
URL:http://www.mccne.com
CONTACT:MCCNE Info. Line: 508-674-5462
ORGANIZER:Mustang Car Club of New England
ATTACH;FMTTYPE="image/jpeg":http://storage.ning.com/topology/rest/1.0/
 file/get/2284095264?profile=original
ATTENDEE;ROLE=REQ-PARTICIPANT;PARTSTAT=ACCEPTED;RSVP=TRUE;CN="Vincent 
 Letourneau":https://northeastwheelsevents.com/profile/VincentLetournea
 u
END:VEVENT
END:VCALENDAR
