BEGIN:VCALENDAR
PRODID:NingEventWidget-v1
VERSION:2.0
METHOD:PUBLISH
BEGIN:VEVENT
UID:5167423:Event:334123
DTSTAMP:20260423T102845Z
SUMMARY:3nd Annual Fall Auto Show: Cars for a Cause
DESCRIPTION:\r\n\r\nAll makes and models welcome! $20 registration due
  day of show!\r\nALL AGES welcome to Join the Focus crew as we unique
 ly photograph cars while contributing to a great cause that benefits O
 cean Of Love Toms River and Bikur Cholim of Lakeland. Sunday, October
  13 · 9am - 2pm EDT. Rain Date: October 27. Food trucks, Awards, 50/5
 0 winner quaranteed a minimum of $1000. Featuring \"Hot Rod\" and 50's
 -60's Rock and Roll. Email pbacarshow@lakewoodpolicenj.com, also print
  flyer from http://www.njcruisenews.com/\r\nWhether you're a seasoned 
 photographer or simply a car enthusiast, this event is designed to be 
 an enjoyable and impactful experience. Don’t miss out on the chance 
 to contribute to a great cause while enjoying a day filled with stunni
 ng cars and vibrant community spirit.\r\nAgenda:\r\n9:00 AM - 2:00 PM 
 - Find the Focus Crew @ our Raffle Table. We will be raffling a samp
 ling of gear for all kinds of creators!\r\n9:00 AM - 2:00 PM Capture 
 awesome classic automobiles!\r\n\r\nTag us on IG for a chance to be fe
 atured: @focuscamera @focuscameralakewood #FocusOnACause\r\nShare y
 our images to our gallery: Here\r\n\r\nPlease note that while registr
 ation is not required to attend the event, we encourage you to come an
 d enjoy the festivities. Don’t miss out on the chance to contribute
  to a great cause while enjoying a day filled with stunning cars and v
 ibrant community spirit. See you there! More information about the ev
 ent: Here\r\n\r\n\n\nFor more information visit https://northeastwhee
 lsevents.com/events/3nd-annual-fall-auto-show-cars-for-a-cause
DTSTART:20241013T130000Z
DTEND:20241013T180000Z
CATEGORIES:carshow, benefit
LOCATION:ShoreTown Ballpark
WEBSITE:https://www.eventbrite.com/e/3nd-annual-fall-auto-show-cars-fo
 r-a-cause-tickets-1013104511867
URL:https://www.eventbrite.com/e/3nd-annual-fall-auto-show-cars-for-a-
 cause-tickets-1013104511867
CONTACT:732-363-0200 ext. 2277
ORGANIZER:Focus Camera
ATTACH;FMTTYPE="image/jpeg":https://storage.ning.com/topology/rest/1.0
 /file/get/12936889097?profile=original
ATTENDEE;ROLE=REQ-PARTICIPANT;PARTSTAT=ACCEPTED;RSVP=TRUE;CN="William 
 Bruce":https://northeastwheelsevents.com/profile/WilliamBruce
END:VEVENT
END:VCALENDAR
