BEGIN:VCALENDAR
PRODID:NingEventWidget-v1
VERSION:2.0
METHOD:PUBLISH
BEGIN:VEVENT
UID:5167423:Event:122206
DTSTAMP:20260421T045350Z
SUMMARY:3rd Annual 2016 Northeast Mustang Meet
DESCRIPTION:Admission price includes 2 tickets to the Independent base
 ball league New Jersey Jackals game and fireworks show after the game.
  A portion of the proceeds will be donated to Cherubs-CDH\n\n$25-Pre-r
 egistration\n$30-At the gate\n\nFor more information visit https://nor
 theastwheelsevents.com/events/3rd-annual-2016-northeast-mustang-meet
DTSTART:20160730T140000Z
DTEND:20160730T200000Z
CATEGORIES:car, show, fund, raiser
LOCATION:Yogi Berra Stadium,  Montclair University Campus
WEBSITE:http://www.northeastmustangmeet.com
URL:http://www.northeastmustangmeet.com
CONTACT:
ORGANIZER;CN="Northeast Mustang Meet":https://northeastwheelsevents.co
 m/profile/NortheastMustangMeet
ATTACH;FMTTYPE="image/jpeg":http://storage.ning.com/topology/rest/1.0/
 file/get/2284088500?profile=original
ATTENDEE;ROLE=REQ-PARTICIPANT;PARTSTAT=ACCEPTED;RSVP=TRUE;CN="Northeas
 t Mustang Meet":https://northeastwheelsevents.com/profile/NortheastMus
 tangMeet
END:VEVENT
END:VCALENDAR
