BEGIN:VCALENDAR
PRODID:NingEventWidget-v1
VERSION:2.0
METHOD:PUBLISH
BEGIN:VEVENT
UID:5167423:Event:348447
DTSTAMP:20260424T175454Z
SUMMARY:3rd Annual Allegany Mountain FALL Car &amp; Truck Show
DESCRIPTION:3rd Annual Allegany Mountain FALL Car & Truck ShowHosted b
 y Coudersport Car Shows & Allegany Mountain Engine & Implement Associa
 tion\nSaturday, October 3, 20269:00 AM TO 3:00 PMRegistration 9:00 am 
 – 12:00 pm4786 PA-155, Port Allegany, PA 16743PREREGISTRATION - $10.
 00Day OF REGISTRATION - $12.00\nPRIZES TO BE AWARDED FORBest Of ShowMa
 yor’s ChoiceLoudest Exhaust1st, 2nd ,3rd Car1st, 2nd TruckBest Motor
 cycleBest PaintBest EngineBest JeepMost OriginalSpectators Pick\nYou c
 an pre-register by visiting www.coudersportcarshows.com\n\nFor more i
 nformation visit https://northeastwheelsevents.com/events/3rd-annual-a
 llegany-mountain-fall-car-amp-truck-show
DTSTART:20261003T130000Z
DTEND:20261003T190000Z
CATEGORIES:car, show
LOCATION:Allegheny Mountain Engine And Implement Association
WEBSITE:http://www.coudersportcarshows.com
URL:http://www.coudersportcarshows.com
CONTACT:814-320-3523
ORGANIZER;CN="Coudersport Car Shows":https://northeastwheelsevents.com
 /profile/CoudersportCarShows
ATTACH;FMTTYPE="image/jpeg":https://storage.ning.com/topology/rest/1.0
 /file/get/31093259072?profile=original
ATTENDEE;ROLE=REQ-PARTICIPANT;PARTSTAT=ACCEPTED;RSVP=TRUE;CN="Coudersp
 ort Car Shows":https://northeastwheelsevents.com/profile/CoudersportCa
 rShows
END:VEVENT
END:VCALENDAR
