BEGIN:VCALENDAR
PRODID:NingEventWidget-v1
VERSION:2.0
METHOD:PUBLISH
BEGIN:VEVENT
UID:5167423:Event:161851
DTSTAMP:20260422T232327Z
SUMMARY:3rd Annual Car and Truck Show and Food Extravaganza Salem Unit
 ed Church of Christ
DESCRIPTION:Please come and join us for our 3rd Annual Car show at Sal
 em United Church of Christ located in Jacobus, PA. Our show is kind of
  unique because we keep it real by not being too focused on who's taki
 ng home the trophies -  our goal is for people to come and have fun, 
 enjoy good food and good conversation with other car people. We do hav
 e trophies and they are unique because each one is hand made from old 
 car parts - how cool is that! Also, each car show entrant will receive
  a meal ticket with their entry and this year's meal is the famous Log
 anville Fire Department's chicken dinner complete with a baked potato,
  side dish and a homemade dessert from the Church's fellowship committ
 ee (and let me tell you these ladies can make some serious desserts!!!
 ). Call or text me with questions and if you are definitely coming let
  me know please  - don't want to run out of chicken dinners and the S
 how is Rain or Shine!!! Happy Motoring!!!\n\nFor more information visi
 t https://northeastwheelsevents.com/events/3rd-annual-car-and-truck-sh
 ow-amp-food-extravaganza-salem-united
DTSTART:20170826T140000Z
DTEND:20170826T180000Z
CATEGORIES:car, and, truck, show, which, serves, as, a, fundraiser, fo
 r, the, church
LOCATION:Rear Parking Lot of the Salem UCC Church in Jacobus, PA
WEBSITE:
URL:
CONTACT:410-599-9888
ORGANIZER;CN=Sean:https://northeastwheelsevents.com/profile/Sean
ATTACH;FMTTYPE="image/jpeg":
ATTENDEE;ROLE=REQ-PARTICIPANT;PARTSTAT=ACCEPTED;RSVP=TRUE;CN=Sean:http
 s://northeastwheelsevents.com/profile/Sean
END:VEVENT
END:VCALENDAR
