BEGIN:VCALENDAR
PRODID:NingEventWidget-v1
VERSION:2.0
METHOD:PUBLISH
BEGIN:VEVENT
UID:5167423:Event:687
DTSTAMP:20260423T133602Z
SUMMARY:3rd ANNUAL CAR SHOW    BRISTOL, PA
DESCRIPTION:TOP 30 BENEFITS - ARMED FORCES FOUNDATION-\n\n$15.00\n\nVE
 NDORS WELCOME\n\n[NOT A NORTHEAST MUSCLE CAR EVENT]\n\n( RAIN DATE JUL
 Y 18TH)\n\nFor more information visit https://northeastwheelsevents.co
 m/events/3rd-annual-car-show-bristol
DTSTART:20100717T150000Z
DTEND:20100717T210000Z
CATEGORIES:benefit
LOCATION:ANTHONY’S RESTAURANT ON THE DELAWARE,
WEBSITE:http://NEMCC2003@AOL.COM
URL:http://NEMCC2003@AOL.COM
CONTACT:215-331-2324
ORGANIZER:NEMCC
ATTACH;FMTTYPE="image/jpeg":http://storage.ning.com/topology/rest/1.0/
 file/get/2284047068?profile=original
ATTENDEE;ROLE=REQ-PARTICIPANT;PARTSTAT=ACCEPTED;RSVP=TRUE;CN="Richard 
 Scott":https://northeastwheelsevents.com/profile/RichardScott
END:VEVENT
END:VCALENDAR
