BEGIN:VCALENDAR
PRODID:NingEventWidget-v1
VERSION:2.0
METHOD:PUBLISH
BEGIN:VEVENT
UID:5167423:Event:316756
DTSTAMP:20260422T034252Z
SUMMARY:3RD ANNUAL CLASSICS ON THE GREEN
DESCRIPTION:Whitehall Golf Club, Bath, Pa. 10:30am - Best Ball Scrambl
 e, Prizes for top 3 Foursomes, $110 Per Golfer ( Includes Fees, Cart, 
 Hotdogs & Drink, Awards Dinner)\nFor more Information - 610-432-4200 x
 10\n\nFor more information visit https://northeastwheelsevents.com/eve
 nts/3rd-annual-classics-on-the-green-1
DTSTART:20230911T040000Z
DTEND:20230912T035900Z
CATEGORIES:golf, event
LOCATION:AMERICA ON WHEELS MUSEUM
WEBSITE:http://WWW.AMERICAONWHEELS.ORG
URL:http://WWW.AMERICAONWHEELS.ORG
CONTACT:6104324200
ORGANIZER:LIZ HAHN
ATTACH;FMTTYPE="image/jpeg":https://storage.ning.com/topology/rest/1.0
 /file/get/12131246464?profile=original
ATTENDEE;ROLE=REQ-PARTICIPANT;PARTSTAT=ACCEPTED;RSVP=TRUE;CN="Linda Me
 rkel":https://northeastwheelsevents.com/profile/LindaMerkel
END:VEVENT
END:VCALENDAR
