BEGIN:VCALENDAR
PRODID:NingEventWidget-v1
VERSION:2.0
METHOD:PUBLISH
BEGIN:VEVENT
UID:5167423:Event:193102
DTSTAMP:20260425T234017Z
SUMMARY:3rd Annual DePuy Synthes Auto Show
DESCRIPTION:Car, truck, motorcycle, military vehicle, hot rod, musclec
 ar, antique, rat rod, import show. All welcome. Spectators free. Pre-r
 egistration for vehicles $12. Day of show registration $15. Door prize
 s, food, music, trophies. All money raised goes directly to support th
 e Liberty USO.\n\nFor more information visit https://northeastwheelsev
 ents.com/events/3rd-annual-depuy-synthes-auto-show
DTSTART:20180929T140000Z
DTEND:20180929T180000Z
CATEGORIES:car, show, fundraiser, for, liberty, uso
LOCATION:DePuy Synthes Corporate headquarters
WEBSITE:http://bit.ly/VLCUSO3
URL:http://bit.ly/VLCUSO3
CONTACT:610-738-4600 ext 1321
ORGANIZER;CN="Paul Boorse":https://northeastwheelsevents.com/profile/P
 aulBoorse
ATTACH;FMTTYPE="image/jpeg":
ATTENDEE;ROLE=REQ-PARTICIPANT;PARTSTAT=ACCEPTED;RSVP=TRUE;CN="Peter Sc
 hroeder":https://northeastwheelsevents.com/profile/PeterSchroeder
ATTENDEE;ROLE=REQ-PARTICIPANT;PARTSTAT=ACCEPTED;RSVP=TRUE;CN="Paul Boo
 rse":https://northeastwheelsevents.com/profile/PaulBoorse
END:VEVENT
END:VCALENDAR
