BEGIN:VCALENDAR
PRODID:NingEventWidget-v1
VERSION:2.0
METHOD:PUBLISH
BEGIN:VEVENT
UID:5167423:Event:334557
DTSTAMP:20260423T104804Z
SUMMARY:3rd Annual Foliage Poker Run
DESCRIPTION:Welcome to our \"3rd Annual Foliage Poker Run\", around th
 e Catskills. Total travel milage is 230 miles, (5hrs total driving).\r
 \n Starting Line: Greek Peak Mountain Resort\r\n2000 NY-392, Cortland
 , New York 13045\r\n\r\n1st Stop of Day: Mount Utsayantha Fire Tower\r
 \nSamford, NY 12167\r\n\r\n(2) Lunch Stop: Binnekill Tavern \r\n746 M
 ain Street, Margaretville, NY 12455\r\n\r\n(3) Ice Cream Stop: Daisys 
 Queen Ice Cream\r\n8 West Street, Walton, NY 13856\r\n\r\n(4) Last Sto
 p Before Split: Dunkin' \r\n1320 River Street, Bainbridge, NY 13733\r
 \n\r\nLet's hope for another great year, good weather, smooth roads, w
 ell behaving cars, and twisty corners! \n\nFor more information visit
  https://northeastwheelsevents.com/events/3rd-annual-foliage-poker-run
DTSTART:20241026T140000Z
DTEND:20241026T230000Z
CATEGORIES:pokerrun, motorcycleshow, carshow, benefit
LOCATION:Greek Peak Water Park And Lodge, Virgil. NY
WEBSITE:https://www.facebook.com/events/greek-peak-water-park-and-lodg
 e/3rd-annual-foliage-poker-run/1306551540507740/
URL:https://www.facebook.com/events/greek-peak-water-park-and-lodge/3r
 d-annual-foliage-poker-run/1306551540507740/
CONTACT:607-279-5776
ORGANIZER:Emil S. Gevorgyan
ATTACH;FMTTYPE="image/jpeg":https://storage.ning.com/topology/rest/1.0
 /file/get/12981225657?profile=original
ATTENDEE;ROLE=REQ-PARTICIPANT;PARTSTAT=ACCEPTED;RSVP=TRUE;CN="William 
 Bruce":https://northeastwheelsevents.com/profile/WilliamBruce
END:VEVENT
END:VCALENDAR
