BEGIN:VCALENDAR
PRODID:NingEventWidget-v1
VERSION:2.0
METHOD:PUBLISH
BEGIN:VEVENT
UID:5167423:Event:335060
DTSTAMP:20260423T211212Z
SUMMARY:3rd Annual Freedom Trunk or Treat
DESCRIPTION:Join Freedom Allstar Cheer & Tumble for their 3rd Annual T
 runk-Or-Treat. Bring your classic car, truck or bike! \r\nCost: Free
 \r\nMore Info\r\n\r\nhttps://www.facebook.com/events/8355525154498868\
 r\n\n\nFor more information visit https://northeastwheelsevents.com/ev
 ents/3rd-annual-freedom-trunk-or-treat
DTSTART:20241026T220000Z
DTEND:20241026T233000Z
CATEGORIES:carshow, trunkortreat
LOCATION:Freedom Allstar Cheer and Tumble
WEBSITE:https://binghamton.macaronikid.com/events/66cf44cbdd4f6d20dc60
 1c17/freedom-allstar-cheer-and-tumble--trunk-or-treat
URL:https://binghamton.macaronikid.com/events/66cf44cbdd4f6d20dc601c17
 /freedom-allstar-cheer-and-tumble--trunk-or-treat
CONTACT:607-953-8821
ORGANIZER:Freedom Allstar Cheer and Tumble
ATTACH;FMTTYPE="image/jpeg":https://storage.ning.com/topology/rest/1.0
 /file/get/13007314289?profile=original
ATTENDEE;ROLE=REQ-PARTICIPANT;PARTSTAT=ACCEPTED;RSVP=TRUE;CN="William 
 Bruce":https://northeastwheelsevents.com/profile/WilliamBruce
END:VEVENT
END:VCALENDAR
