BEGIN:VCALENDAR
PRODID:NingEventWidget-v1
VERSION:2.0
METHOD:PUBLISH
BEGIN:VEVENT
UID:5167423:Event:348913
DTSTAMP:20260420T223935Z
SUMMARY:3rd Annual PIECE-N-GREASE VINTAGE CAMPER, CAR, TRUCK & BIKE SH
 OW
DESCRIPTION:We had so much fun, we're doing it again! Mark your calend
 ars so you don't miss it! Full details to come but I guarantee good fo
 od, sweet rides of all kinds and the best people you could find! Tent 
 Camping included in price of ticket so be sure to plan ahead and pitch
  a tent Friday and Saturday!! Got a vintage Camper? Camp in that as lo
 ng as you're good with primitive! We would love to see them! Our 2024 
 show was our first and we learned so much so I promise you this will b
 e the show you will not want to miss in 2026!!! \r\n\r\nActivities: 
 The event is family-friendly and typically includes:\r\n\r\nVintage ca
 r, truck, and motorcycle displays.\r\nLive music and bonfires.\r\nFood
  trucks and vendors.\r\nContests: Including a stationary burnout cont
 est, pin-up contest, kids' build-off, and a vintage camper contest.\r\
 n\r\n\r\n\r\n\r\n\r\nPlease note that event organizers have previously
  issued warnings regarding potential ticket scams; always ensure you a
 re interacting with their official social media pages or website for a
 ccurate registration and information. \r\nMay 22nd and 23rd 2026\r\n\
 r\n6964 township line rd Waynesville ohio.\r\nhttps://minervamotorclub
 .com/; club info.\r\nSign up at www.piecengrease.com\n\nFor more infor
 mation visit https://northeastwheelsevents.com/events/3rd-annual-piece
 -n-grease-vintage-car-truck-bike-show
DTSTART:20260522T160000Z
DTEND:20260524T000000Z
CATEGORIES:carshow, campershow
LOCATION:Miller's Campground + Gun Club
WEBSITE:https://www.google.com/search?q=PIECE-N-GREASE+VINTAGE+CAR%2C+
 TRUCK+%26+BIKE+SHOW&amp;amp;amp;oq=PIECE-N-GREASE+VINTAGE+CAR%2C+TRUCK
 +%26+BIKE+SHOW&amp;amp;amp;gs_lcrp=EgZjaHJvbWUyBggAEEUYOTIICAEQABgWGB4
 yCggCEAAYogQYiQUyBwgDECEYjwIyBggEEEUYPDIGCAUQRRg80gEIMjAyMmowajmoAgewA
 gHxBcgySA-DM4Va8QXIMkgPgzOFWg&amp;amp;amp;client=ms-android-samsung-gs
 -rev1&amp;amp;amp;sourceid=chrome-mobile&amp;amp;amp;ie=UTF-8#lfId=Chx
 jMe
URL:https://www.google.com/search?q=PIECE-N-GREASE+VINTAGE+CAR%2C+TRUC
 K+%26+BIKE+SHOW&amp;amp;amp;oq=PIECE-N-GREASE+VINTAGE+CAR%2C+TRUCK+%26
 +BIKE+SHOW&amp;amp;amp;gs_lcrp=EgZjaHJvbWUyBggAEEUYOTIICAEQABgWGB4yCgg
 CEAAYogQYiQUyBwgDECEYjwIyBggEEEUYPDIGCAUQRRg80gEIMjAyMmowajmoAgewAgHxB
 cgySA-DM4Va8QXIMkgPgzOFWg&amp;amp;amp;client=ms-android-samsung-gs-rev
 1&amp;amp;amp;sourceid=chrome-mobile&amp;amp;amp;ie=UTF-8#lfId=ChxjMe
CONTACT:(513) 897-0181 ·
ORGANIZER:Piece-n-Grease
ATTACH;FMTTYPE="image/jpeg":https://storage.ning.com/topology/rest/1.0
 /file/get/13094375054?profile=original
ATTENDEE;ROLE=REQ-PARTICIPANT;PARTSTAT=ACCEPTED;RSVP=TRUE;CN="William 
 Bruce":https://northeastwheelsevents.com/profile/WilliamBruce
END:VEVENT
END:VCALENDAR
