BEGIN:VCALENDAR
PRODID:NingEventWidget-v1
VERSION:2.0
METHOD:PUBLISH
BEGIN:VEVENT
UID:5167423:Event:335078
DTSTAMP:20260423T015947Z
SUMMARY:3rd annual Tractor Treat
DESCRIPTION:Our 3rd annual Tractor Treat! Join us once again on Octobe
 r 13th from 11-2 as we offer a farmer’s version of Trunk or Treat th
 at we like to call “Tractor Treat”. Make your way around the playg
 round area going from tractor to tractor, getting a sweet treat at eac
 h one! Also enjoy our FREE 1/4 mile long kid friendly ‘haunted’ co
 rn maze. Enjoy FREE face painting, FREE playground playing, FREE calf 
 petting, FREE kid’s pumpkin painting, games, activities, and so much
  more! This year we will have a food truck serving up hotdogs, hamburg
 ers, kettle corn and more. Parker will be set up doing live chainsaw c
 arving, and will have a number of items to sell. We will once again be
  offering our kid friendly “haunted” hayride which is a half hour 
 ride around the back fields of the farm where you’ll see all kinds o
 f skeleton shenanigans. There is a small fee for the hayride, but ever
 ything else is FREE to enjoy! Costumes are encouraged, but not require
 d. Hope to see you there for a fun family outing! Contact us if you ha
 ve an available tractor. Bradleydairyfarm@gmail.com\n\nFor more inform
 ation visit https://northeastwheelsevents.com/events/3rd-annual-tracto
 r-treat
DTSTART:20241013T150000Z
DTEND:20241013T180000Z
CATEGORIES:tractorshow, trunkortreat
LOCATION:Bradley's Country Creamery
WEBSITE:https://allevents.in/athens/3rd-annual-tractor-treat/200027143
 414938
URL:https://allevents.in/athens/3rd-annual-tractor-treat/2000271434149
 38
CONTACT:510-651-0200
ORGANIZER:Bradley's Country Creamery
ATTACH;FMTTYPE="image/jpeg":https://storage.ning.com/topology/rest/1.0
 /file/get/13012554670?profile=original
ATTENDEE;ROLE=REQ-PARTICIPANT;PARTSTAT=ACCEPTED;RSVP=TRUE;CN="William 
 Bruce":https://northeastwheelsevents.com/profile/WilliamBruce
END:VEVENT
END:VCALENDAR
