BEGIN:VCALENDAR
PRODID:NingEventWidget-v1
VERSION:2.0
METHOD:PUBLISH
BEGIN:VEVENT
UID:5167423:Event:335157
DTSTAMP:20260422T213747Z
SUMMARY:3rd Annual Trunk or Treat!
DESCRIPTION:\r\n\r\n\r\n3rd Annual Trunk or Treat!\r\n\r\n\r\n\r\n\r\n
 \r\n\r\n\r\n\r\n\r\n\r\nJoin us for our THIRD annual trunk or treat ev
 ent at TBH!  Last year we reached over 500 of you in the community and
  we can not wait to share it spooktacular evening with you again!  Com
 e out and enjoy music, snacks, face painting, Photo Booth, candy and M
 ORE!   *please note, if you are registering to join us with a TRUNK, w
 e have a limit of 60 trunks this year. Please only register if you are
  100% sure you can commit. Registration will close once limit has been
  hit*  You can enter your classic car, truck or bike! \r\n\r\n\r\n\r
 \n\r\n\r\n\r\n\n\nFor more information visit https://northeastwheelsev
 ents.com/events/3rd-annual-trunk-or-treat-1
DTSTART:20241017T210000Z
DTEND:20241017T230000Z
CATEGORIES:trunkortreat, cruise-in
LOCATION:Tower Behavioral Health
WEBSITE:https://allevents.in/reading/3rd-annual-trunk-or-treat/2000272
 56892416
URL:https://allevents.in/reading/3rd-annual-trunk-or-treat/20002725689
 2416
CONTACT:484-339-6037
ORGANIZER:Tower Behavioral Health
ATTACH;FMTTYPE="image/jpeg":https://storage.ning.com/topology/rest/1.0
 /file/get/13015811462?profile=original
ATTENDEE;ROLE=REQ-PARTICIPANT;PARTSTAT=ACCEPTED;RSVP=TRUE;CN="William 
 Bruce":https://northeastwheelsevents.com/profile/WilliamBruce
END:VEVENT
END:VCALENDAR
