BEGIN:VCALENDAR
PRODID:NingEventWidget-v1
VERSION:2.0
METHOD:PUBLISH
BEGIN:VEVENT
UID:5167423:Event:335270
DTSTAMP:20260422T225735Z
SUMMARY:3rd Annual Trunk-Or-Treat
DESCRIPTION:Join your locally owned pharmacy in their 3rd annual Trunk
 -Or-Treat! This year it will be spectacular because we will be holding
  it at our new location!! Get the family together for an afternoon of 
 fun. We will be having a costume contest, games, music, and so much mo
 re... stay tuned for more information as we get closer to the date!  A
 s always we are accepting vendors to decorate their trunks, table, or 
 tent spaces. If you are interested in becoming a vendor please contact
  us at windgaprx1@gmail.com or give us a call during business hours 
 at (610)881-4260. Vendor spaces are at no cost!!\n\nFor more informati
 on visit https://northeastwheelsevents.com/events/3rd-annual-trunk-or-
 treat
DTSTART:20241013T190000Z
DTEND:20241013T220000Z
CATEGORIES:trunkortreat, cruise-in
LOCATION:Wind Gap Comnunity Pharmacy
WEBSITE:https://allevents.in/wind%20gap/3rd-annual-trunk-or-treat/2000
 26811582607
URL:https://allevents.in/wind%20gap/3rd-annual-trunk-or-treat/20002681
 1582607
CONTACT:(610)881-4260
ORGANIZER:Wind Gap Comnunity Pharmacy
ATTACH;FMTTYPE="image/jpeg":https://storage.ning.com/topology/rest/1.0
 /file/get/13012456284?profile=original
ATTENDEE;ROLE=REQ-PARTICIPANT;PARTSTAT=ACCEPTED;RSVP=TRUE;CN="William 
 Bruce":https://northeastwheelsevents.com/profile/WilliamBruce
END:VEVENT
END:VCALENDAR
