BEGIN:VCALENDAR
PRODID:NingEventWidget-v1
VERSION:2.0
METHOD:PUBLISH
BEGIN:VEVENT
UID:5167423:Event:62350
DTSTAMP:20260422T001701Z
SUMMARY:3rd ANNUAL VINTAGE MOTORCYCLE FESTIVAL featuring AHRMA and Swa
 p Meet – July 10-12
DESCRIPTION:The 3rd Annual Vintage Motorcycle Festival will feature a 
 60,000 square foot Swap Meet full of parts, bikes, merchandise and col
 lectables along with live music and AHRMA racing. The American Histori
 c Racing Motorcycle Association Ltd. (AHRMA) is a not-for-profit organ
 ization dedicated to restoring and competing on classic motorcycles. W
 ith about 4,000 members, AHRMA is the largest vintage racing group in 
 North America and one of the biggest in the world. The association has
  grown steadily over the years, reflecting the increasing interest in 
 classic bikes.\n\nFor more information visit https://northeastwheelsev
 ents.com/events/3rd-annual-vintage-motorcycle-festival-featuring-ahrma
 -and-swap
DTSTART:20150710T120000Z
DTEND:20150712T230000Z
CATEGORIES:vintage, motorcycle, racing, swap, meet
LOCATION:New Jersey Motorsports Park
WEBSITE:http://www.njmp.com
URL:http://www.njmp.com
CONTACT:856-327-7256
ORGANIZER;CN="Megan Varrell":https://northeastwheelsevents.com/profile
 /MeganVarrell
ATTACH;FMTTYPE="image/jpeg":http://storage.ning.com/topology/rest/1.0/
 file/get/2284064670?profile=original
ATTENDEE;ROLE=REQ-PARTICIPANT;PARTSTAT=ACCEPTED;RSVP=TRUE;CN="Megan Va
 rrell":https://northeastwheelsevents.com/profile/MeganVarrell
END:VEVENT
END:VCALENDAR
