BEGIN:VCALENDAR
PRODID:NingEventWidget-v1
VERSION:2.0
METHOD:PUBLISH
BEGIN:VEVENT
UID:5167423:Event:23138
DTSTAMP:20260424T000051Z
SUMMARY:3rd Anual All Pontiac Car Show
DESCRIPTION:Judged Show,Trophy's Raffles,Good food\nHeld at Napa of Sm
 ithtown\n310 Maple Ave\nSmithtown NY 11787\nHosted by the For more inf
 o contact:\nMartin Covais\n631 592 8237 or email at mrboeing707@yahoo
 .com\n\nFor more information visit https://northeastwheelsevents.com/e
 vents/3rd-anual-all-pontiac-car-show
DTSTART:20130609T040000Z
DTEND:20130610T035900Z
CATEGORIES:car, show
LOCATION:Smithtown, New York
WEBSITE:http://www.poci.org
URL:http://www.poci.org
CONTACT:631 592-8237
ORGANIZER:Long Island Chapter of POCI and The Long Island Chapter of G
 TOAA
ATTACH;FMTTYPE="image/jpeg":http://storage.ning.com/topology/rest/1.0/
 file/get/2284052855?profile=original
ATTENDEE;ROLE=REQ-PARTICIPANT;PARTSTAT=ACCEPTED;RSVP=TRUE;CN="Pamela H
 irschhorn":https://northeastwheelsevents.com/profile/PamelaHirschhorn
END:VEVENT
END:VCALENDAR
