BEGIN:VCALENDAR
PRODID:NingEventWidget-v1
VERSION:2.0
METHOD:PUBLISH
BEGIN:VEVENT
UID:5167423:Event:300993
DTSTAMP:20260422T095640Z
SUMMARY:3rd Friday Cruisers
DESCRIPTION:2022%20Schedule.png\n\nFor more information visit https://
 northeastwheelsevents.com/events/3rd-friday-cruisers-1
DTSTART:20220617T200000Z
DTEND:20220617T230000Z
CATEGORIES:3rd, friday, cruisers, -, perryville, maryland, car, show
LOCATION:Lower Ferry Park
WEBSITE:http://www.perryvillemd.org
URL:http://www.perryvillemd.org
CONTACT:4106426066
ORGANIZER:Town of Perryville
ATTACH;FMTTYPE="image/jpeg":https://storage.ning.com/topology/rest/1.0
 /file/get/10466441080?profile=original
ATTENDEE;ROLE=REQ-PARTICIPANT;PARTSTAT=ACCEPTED;RSVP=TRUE;CN="Pamela H
 irschhorn":https://northeastwheelsevents.com/profile/PamelaHirschhorn
END:VEVENT
END:VCALENDAR
