BEGIN:VCALENDAR
PRODID:NingEventWidget-v1
VERSION:2.0
METHOD:PUBLISH
BEGIN:VEVENT
UID:5167423:Event:141990
DTSTAMP:20260423T103044Z
SUMMARY:40 th Annual Spring Fling Automotive Flea Market
DESCRIPTION:Indoor Automotive Flea Market. Sponsored by the Western Ne
 w York Region of The Early Ford V-8 Club of America. Sunday, April 2nd
  9 AM to 3 PM. Parts and related Automotive things for all kinds of ve
 hicles.\nPlenty of FREE parking at The Total Sports Experience. 880 El
 mgrove Rd. ROCHESTER, New York, 14624. For map and directions, visit o
 ur website at www.wnyrg.org or call Frank at (585) 637-8863. For vendo
 r information call Mark at (585) 786-2876.\nPart of the proceeds will 
 benefit The Alzheimer's Association.\nAdmission is just $5.00 and anyo
 ne under 16 is FREE.    \n\nFor more information visit https://north
 eastwheelsevents.com/events/40-th-annual-spring-fling-automotive-flea-
 market
DTSTART:20170402T130000Z
DTEND:20170402T190000Z
CATEGORIES:auto, parts, flea, market
LOCATION:Total Sports Experience Indoor Arena just South of Rt.531
WEBSITE:http://www.wnyrg.org
URL:http://www.wnyrg.org
CONTACT:5856378863
ORGANIZER:Mark Moriarty & Pat McFarlane
ATTACH;FMTTYPE="image/jpeg":
ATTENDEE;ROLE=REQ-PARTICIPANT;PARTSTAT=ACCEPTED;RSVP=TRUE;CN="Pat McFa
 rlane":https://northeastwheelsevents.com/profile/PatMcFarlane
END:VEVENT
END:VCALENDAR
