BEGIN:VCALENDAR
PRODID:NingEventWidget-v1
VERSION:2.0
METHOD:PUBLISH
BEGIN:VEVENT
UID:5167423:Event:243084
DTSTAMP:20260422T183602Z
SUMMARY:40th annual Chester County Car Show
DESCRIPTION:Biggest car show in Chester Co. Attracts over 600 variety 
 of antique, classic, street rods, truck and more Vendors, flea market,
  food court and DJ. Rain or shine\n\nFor more information visit https:
 //northeastwheelsevents.com/events/40th-annual-chester-county-car-show
DTSTART:20190526T130000Z
DTEND:20190526T190000Z
CATEGORIES:annual, car, show, in, conjunction, with, valley, forge, mu
 stang, club
LOCATION:Kimberton Fire Company Fairgrounds Route 113
WEBSITE:http://Chescoacc.com
URL:http://Chescoacc.com
CONTACT:484 872 8195
ORGANIZER:Dave Shingle
ATTACH;FMTTYPE="image/jpeg":
ATTENDEE;ROLE=REQ-PARTICIPANT;PARTSTAT=ACCEPTED;RSVP=TRUE;CN="Jeanie C
 assidy":https://northeastwheelsevents.com/profile/JeanieCassidy
END:VEVENT
END:VCALENDAR
